BEGIN:VCALENDAR
VERSION:2.0
PRODID:-//ChamberMaster//Event Calendar 2.0//EN
METHOD:PUBLISH
X-PUBLISHED-TTL:P1H
REFRESH-INTERVAL:P1H
CALSCALE:GREGORIAN
BEGIN:VTIMEZONE
TZID:America/New_York
BEGIN:DAYLIGHT
RRULE:FREQ=YEARLY;BYMONTH=3;BYDAY=2SU
DTSTART:20070101T000000
TZOFFSETFROM:-0500
TZOFFSETTO:-0400
TZNAME:Eastern Daylight Time
END:DAYLIGHT
BEGIN:STANDARD
RRULE:FREQ=YEARLY;BYMONTH=11;BYDAY=1SU
DTSTART:20070101T000000
TZOFFSETFROM:-0400
TZOFFSETTO:-0500
TZNAME:Eastern Standard Time
END:STANDARD
END:VTIMEZONE
BEGIN:VEVENT
DTSTART;TZID=America/New_York:20260415T000000
DTEND;TZID=America/New_York:20260416T000000
X-MICROSOFT-CDO-ALLDAYEVENT:FALSE
SUMMARY:Work in Quinte Career Fair - Draw for Prize Pack
DESCRIPTION:Prize Pack Draw Registration
X-ALT-DESC;FMTTYPE=text/html:Prize Pack Draw Registration
LOCATION:265 Cannifton Road Belleville ON K8N 4V8
UID:e.3591.1444331
SEQUENCE:3
DTSTAMP:20260422T083345Z
URL:https://builder.quintehomebuilders.com/events/Details/work-in-quinte-career-fair-draw-for-prize-pack-1710696?sourceTypeId=Hub
END:VEVENT
END:VCALENDAR
